BEGIN:VCALENDAR
VERSION:2.0
PRODID:-//Paul Sahota - ECPv6.15.20//NONSGML v1.0//EN
CALSCALE:GREGORIAN
METHOD:PUBLISH
X-WR-CALNAME:Paul Sahota
X-ORIGINAL-URL:https://paulsahota.com
X-WR-CALDESC:Events for Paul Sahota
REFRESH-INTERVAL;VALUE=DURATION:PT1H
X-Robots-Tag:noindex
X-PUBLISHED-TTL:PT1H
BEGIN:VTIMEZONE
TZID:America/Vancouver
BEGIN:DAYLIGHT
TZOFFSETFROM:-0800
TZOFFSETTO:-0700
TZNAME:PDT
DTSTART:20240310T100000
END:DAYLIGHT
BEGIN:STANDARD
TZOFFSETFROM:-0700
TZOFFSETTO:-0800
TZNAME:PST
DTSTART:20241103T090000
END:STANDARD
BEGIN:DAYLIGHT
TZOFFSETFROM:-0800
TZOFFSETTO:-0700
TZNAME:PDT
DTSTART:20250309T100000
END:DAYLIGHT
BEGIN:STANDARD
TZOFFSETFROM:-0700
TZOFFSETTO:-0800
TZNAME:PST
DTSTART:20251102T090000
END:STANDARD
BEGIN:DAYLIGHT
TZOFFSETFROM:-0800
TZOFFSETTO:-0700
TZNAME:PDT
DTSTART:20260308T100000
END:DAYLIGHT
BEGIN:STANDARD
TZOFFSETFROM:-0700
TZOFFSETTO:-0800
TZNAME:PST
DTSTART:20261101T090000
END:STANDARD
END:VTIMEZONE
BEGIN:VEVENT
DTSTART;TZID=America/Vancouver:20250605T200000
DTEND;TZID=America/Vancouver:20250605T210000
DTSTAMP:20260423T215703
CREATED:20250528T222235Z
LAST-MODIFIED:20250528T222937Z
UID:4370-1749153600-1749157200@paulsahota.com
SUMMARY:Silva UltraMind Mindful Meditation
DESCRIPTION:Silva UltraMind Mindful Meditation Method Every Thursday 8 PM – 9 PM Pacific\nJoin for an hour of complimentary group coaching and mindful meditation based on the Silva UltraMind ESP System\nOpt in to register and receive a free guide: PeaceofMind
URL:https://paulsahota.com/event/silva-ultramind-mindful-meditation/
LOCATION:Silva Guided Meditation on Zoom\, BC\, Canada
CATEGORIES:Mindful Meditation
END:VEVENT
END:VCALENDAR