BEGIN:VCALENDAR
VERSION:2.0
PRODID:-//Paul Sahota - ECPv6.15.20//NONSGML v1.0//EN
CALSCALE:GREGORIAN
METHOD:PUBLISH
X-ORIGINAL-URL:https://paulsahota.com
X-WR-CALDESC:Events for Paul Sahota
REFRESH-INTERVAL;VALUE=DURATION:PT1H
X-Robots-Tag:noindex
X-PUBLISHED-TTL:PT1H
BEGIN:VTIMEZONE
TZID:America/Vancouver
BEGIN:DAYLIGHT
TZOFFSETFROM:-0800
TZOFFSETTO:-0700
TZNAME:PDT
DTSTART:20230312T100000
END:DAYLIGHT
BEGIN:STANDARD
TZOFFSETFROM:-0700
TZOFFSETTO:-0800
TZNAME:PST
DTSTART:20231105T090000
END:STANDARD
BEGIN:DAYLIGHT
TZOFFSETFROM:-0800
TZOFFSETTO:-0700
TZNAME:PDT
DTSTART:20240310T100000
END:DAYLIGHT
BEGIN:STANDARD
TZOFFSETFROM:-0700
TZOFFSETTO:-0800
TZNAME:PST
DTSTART:20241103T090000
END:STANDARD
BEGIN:DAYLIGHT
TZOFFSETFROM:-0800
TZOFFSETTO:-0700
TZNAME:PDT
DTSTART:20250309T100000
END:DAYLIGHT
BEGIN:STANDARD
TZOFFSETFROM:-0700
TZOFFSETTO:-0800
TZNAME:PST
DTSTART:20251102T090000
END:STANDARD
END:VTIMEZONE
BEGIN:VEVENT
DTSTART;TZID=America/Vancouver:20241207T080000
DTEND;TZID=America/Vancouver:20241208T170000
DTSTAMP:20260424T072056
CREATED:20240927T225458Z
LAST-MODIFIED:20240927T225458Z
UID:4344-1733558400-1733677200@paulsahota.com
SUMMARY:Silva UltraMind ESP System Seminar 2-Day
DESCRIPTION:Silva UltraMind ESP System Seminar 2-Day\n9 AM to 5 PM Saturday and Sunday
URL:https://paulsahota.com/event/silva-ultramind-esp-system-seminar-2-day/
LOCATION:2 Day Seminar on Zoom\, BC\, Canada
END:VEVENT
END:VCALENDAR