BEGIN:VCALENDAR
VERSION:2.0
PRODID:-//Paul Sahota - ECPv6.15.20//NONSGML v1.0//EN
CALSCALE:GREGORIAN
METHOD:PUBLISH
X-ORIGINAL-URL:https://paulsahota.com
X-WR-CALDESC:Events for Paul Sahota
REFRESH-INTERVAL;VALUE=DURATION:PT1H
X-Robots-Tag:noindex
X-PUBLISHED-TTL:PT1H
BEGIN:VTIMEZONE
TZID:America/Vancouver
BEGIN:DAYLIGHT
TZOFFSETFROM:-0800
TZOFFSETTO:-0700
TZNAME:PDT
DTSTART:20230312T100000
END:DAYLIGHT
BEGIN:STANDARD
TZOFFSETFROM:-0700
TZOFFSETTO:-0800
TZNAME:PST
DTSTART:20231105T090000
END:STANDARD
BEGIN:DAYLIGHT
TZOFFSETFROM:-0800
TZOFFSETTO:-0700
TZNAME:PDT
DTSTART:20240310T100000
END:DAYLIGHT
BEGIN:STANDARD
TZOFFSETFROM:-0700
TZOFFSETTO:-0800
TZNAME:PST
DTSTART:20241103T090000
END:STANDARD
BEGIN:DAYLIGHT
TZOFFSETFROM:-0800
TZOFFSETTO:-0700
TZNAME:PDT
DTSTART:20250309T100000
END:DAYLIGHT
BEGIN:STANDARD
TZOFFSETFROM:-0700
TZOFFSETTO:-0800
TZNAME:PST
DTSTART:20251102T090000
END:STANDARD
END:VTIMEZONE
BEGIN:VEVENT
DTSTART;TZID=America/Vancouver:20241019T090000
DTEND;TZID=America/Vancouver:20241020T170000
DTSTAMP:20260424T084045
CREATED:20240927T223306Z
LAST-MODIFIED:20240927T223306Z
UID:4339-1729328400-1729443600@paulsahota.com
SUMMARY:Silva UltraMind ESP System Seminar
DESCRIPTION:Silva UltraMind ESP System Seminar 2 Day Seminar\n9 AM to 5 PM Pacific Time Zone Saturday and Sunday
URL:https://paulsahota.com/event/silva-ultramind-esp-system-seminar-4/
LOCATION:2 Day Seminar on Zoom\, BC\, Canada
CATEGORIES:Silva UltraMind ESP
ATTACH;FMTTYPE=image/jpeg:https://paulsahota.com/wp-content/uploads/2016/03/Silva-UltraMind-ESP-logo.jpg
END:VEVENT
END:VCALENDAR